BEGIN:VCALENDAR
VERSION:2.0
PRODID:-//Reaseheath College - ECPv6.10.1.1//NONSGML v1.0//EN
CALSCALE:GREGORIAN
METHOD:PUBLISH
X-WR-CALNAME:Reaseheath College
X-ORIGINAL-URL:https://www.reaseheath.ac.uk
X-WR-CALDESC:Events for Reaseheath College
REFRESH-INTERVAL;VALUE=DURATION:PT1H
X-Robots-Tag:noindex
X-PUBLISHED-TTL:PT1H
BEGIN:VTIMEZONE
TZID:Europe/London
BEGIN:DAYLIGHT
TZOFFSETFROM:+0000
TZOFFSETTO:+0100
TZNAME:BST
DTSTART:20200329T010000
END:DAYLIGHT
BEGIN:STANDARD
TZOFFSETFROM:+0100
TZOFFSETTO:+0000
TZNAME:GMT
DTSTART:20201025T010000
END:STANDARD
END:VTIMEZONE
BEGIN:VEVENT
DTSTART;TZID=Europe/London:20200921T090000
DTEND;TZID=Europe/London:20200921T100000
DTSTAMP:20260420T195129
CREATED:20200918T090512Z
LAST-MODIFIED:20200918T090512Z
UID:102785-1600678800-1600682400@www.reaseheath.ac.uk
SUMMARY:Mechanical Horse Lesson with Ben Read - BHSAI
DESCRIPTION:Lessons will be 30 minutes for £25 with our resident BHS AI coach Ben Read. \nOur resident mechanical horse\, Flicker\, is designed to help riders of all ages and abilities improve their riding. It does not matter your level or whether you are a nervous new rider\, we will help you. \nFlicker is a life size horse and will take every different type of saddle; GP\, Dressage\, etc so feel free to bring your own or use ours! Flicker is very well trained and can go off the riders aids or via a remote control. She also has 5 lovely paces. \nOur instructor will modify every session to suit your needs and is extremely flexible in their teaching style. \nRiders will be asked to fill out a track and trace form on arrival\, as well as a health screen test and are also required to bring their own riding hat.
URL:https://www.reaseheath.ac.uk/event/mechanical-horse-lesson-with-ben-read-bhsai/
LOCATION:Reaseheath Equestrian Centre\, Reaseheath College\, Nantwich\, Cheshire\, CW5 6DF\, United Kingdom
CATEGORIES:Equine Clinic
ORGANIZER;CN="Phoebe Harper":MAILTO:phoebe.harper@reaseheath.ac.uk
END:VEVENT
BEGIN:VEVENT
DTSTART;TZID=Europe/London:20200921T150000
DTEND;TZID=Europe/London:20200921T170000
DTSTAMP:20260420T195129
CREATED:20200918T085847Z
LAST-MODIFIED:20200918T085847Z
UID:102779-1600700400-1600707600@www.reaseheath.ac.uk
SUMMARY:Pole work clinic with Ben Read – BHSAI
DESCRIPTION:Pole work is a fantastic way to work on yours and your horse’s straightness. This clinic can help improve all disciplines\, from accuracy in your dressage test to precision lines and careful strides for jumping. It is also a brilliant way to bond with your horse and work on each other’s weakness.
URL:https://www.reaseheath.ac.uk/event/pole-work-clinic-with-ben-read-bhsai/
LOCATION:Reaseheath Equestrian Centre\, Reaseheath College\, Nantwich\, Cheshire\, CW5 6DF\, United Kingdom
CATEGORIES:Equine Clinic
ORGANIZER;CN="Phoebe Harper":MAILTO:phoebe.harper@reaseheath.ac.uk
END:VEVENT
BEGIN:VEVENT
DTSTART;TZID=Europe/London:20200921T173000
DTEND;TZID=Europe/London:20200921T193000
DTSTAMP:20260420T195129
CREATED:20200829T090221Z
LAST-MODIFIED:20200829T090221Z
UID:102283-1600709400-1600716600@www.reaseheath.ac.uk
SUMMARY:Gridwork Clinic with Joanne Roper BSHII
DESCRIPTION:
URL:https://www.reaseheath.ac.uk/event/gridwork-clinic-with-joanne-roper-bshii/
LOCATION:Reaseheath Equestrian Centre\, Reaseheath College\, Nantwich\, Cheshire\, CW5 6DF\, United Kingdom
ORGANIZER;CN="Phoebe Harper":MAILTO:phoebe.harper@reaseheath.ac.uk
END:VEVENT
END:VCALENDAR