BEGIN:VCALENDAR
VERSION:2.0
PRODID:-//Reaseheath College - ECPv6.10.1.1//NONSGML v1.0//EN
CALSCALE:GREGORIAN
METHOD:PUBLISH
X-ORIGINAL-URL:https://www.reaseheath.ac.uk
X-WR-CALDESC:Events for Reaseheath College
REFRESH-INTERVAL;VALUE=DURATION:PT1H
X-Robots-Tag:noindex
X-PUBLISHED-TTL:PT1H
BEGIN:VTIMEZONE
TZID:Europe/London
BEGIN:DAYLIGHT
TZOFFSETFROM:+0000
TZOFFSETTO:+0100
TZNAME:BST
DTSTART:20190331T010000
END:DAYLIGHT
BEGIN:STANDARD
TZOFFSETFROM:+0100
TZOFFSETTO:+0000
TZNAME:GMT
DTSTART:20191027T010000
END:STANDARD
BEGIN:DAYLIGHT
TZOFFSETFROM:+0000
TZOFFSETTO:+0100
TZNAME:BST
DTSTART:20200329T010000
END:DAYLIGHT
BEGIN:STANDARD
TZOFFSETFROM:+0100
TZOFFSETTO:+0000
TZNAME:GMT
DTSTART:20201025T010000
END:STANDARD
BEGIN:DAYLIGHT
TZOFFSETFROM:+0000
TZOFFSETTO:+0100
TZNAME:BST
DTSTART:20210328T010000
END:DAYLIGHT
BEGIN:STANDARD
TZOFFSETFROM:+0100
TZOFFSETTO:+0000
TZNAME:GMT
DTSTART:20211031T010000
END:STANDARD
BEGIN:DAYLIGHT
TZOFFSETFROM:+0000
TZOFFSETTO:+0100
TZNAME:BST
DTSTART:20220327T010000
END:DAYLIGHT
BEGIN:STANDARD
TZOFFSETFROM:+0100
TZOFFSETTO:+0000
TZNAME:GMT
DTSTART:20221030T010000
END:STANDARD
BEGIN:DAYLIGHT
TZOFFSETFROM:+0000
TZOFFSETTO:+0100
TZNAME:BST
DTSTART:20230326T010000
END:DAYLIGHT
BEGIN:STANDARD
TZOFFSETFROM:+0100
TZOFFSETTO:+0000
TZNAME:GMT
DTSTART:20231029T010000
END:STANDARD
BEGIN:DAYLIGHT
TZOFFSETFROM:+0000
TZOFFSETTO:+0100
TZNAME:BST
DTSTART:20240331T010000
END:DAYLIGHT
BEGIN:STANDARD
TZOFFSETFROM:+0100
TZOFFSETTO:+0000
TZNAME:GMT
DTSTART:20241027T010000
END:STANDARD
BEGIN:DAYLIGHT
TZOFFSETFROM:+0000
TZOFFSETTO:+0100
TZNAME:BST
DTSTART:20250330T010000
END:DAYLIGHT
BEGIN:STANDARD
TZOFFSETFROM:+0100
TZOFFSETTO:+0000
TZNAME:GMT
DTSTART:20251026T010000
END:STANDARD
BEGIN:DAYLIGHT
TZOFFSETFROM:+0000
TZOFFSETTO:+0100
TZNAME:BST
DTSTART:20260329T010000
END:DAYLIGHT
BEGIN:STANDARD
TZOFFSETFROM:+0100
TZOFFSETTO:+0000
TZNAME:GMT
DTSTART:20261025T010000
END:STANDARD
END:VTIMEZONE
BEGIN:VEVENT
DTSTART;VALUE=DATE:20260408
DTEND;VALUE=DATE:20260409
DTSTAMP:20260420T104746
CREATED:20260316T135339Z
LAST-MODIFIED:20260316T135339Z
UID:146640-1775606400-1775692799@www.reaseheath.ac.uk
SUMMARY:British Dressage
DESCRIPTION:
URL:https://www.reaseheath.ac.uk/event/british-dressage-55/
CATEGORIES:Affiliated Dressage
END:VEVENT
BEGIN:VEVENT
DTSTART;TZID=Europe/London:20260321T080000
DTEND;TZID=Europe/London:20260321T120000
DTSTAMP:20260420T104746
CREATED:20260204T190221Z
LAST-MODIFIED:20260204T190221Z
UID:146190-1774080000-1774094400@www.reaseheath.ac.uk
SUMMARY:British Dressage Quest
DESCRIPTION:
URL:https://www.reaseheath.ac.uk/event/british-dressage-quest-3/
LOCATION:Reaseheath Equestrian Centre\, Reaseheath College\, Nantwich\, Cheshire\, CW5 6DF\, United Kingdom
CATEGORIES:Affiliated Dressage
ORGANIZER;CN="Lucinda Bellis":MAILTO:equineevents@reaseheath.ac.uk
END:VEVENT
BEGIN:VEVENT
DTSTART;TZID=Europe/London:20231001T080000
DTEND;TZID=Europe/London:20231001T170000
DTSTAMP:20260420T104746
CREATED:20230704T141356Z
LAST-MODIFIED:20230704T141356Z
UID:126361-1696147200-1696179600@www.reaseheath.ac.uk
SUMMARY:British Dressage
DESCRIPTION:
URL:https://www.reaseheath.ac.uk/event/british-dressage-22/
LOCATION:Reaseheath Equestrian Centre\, Reaseheath College\, Nantwich\, Cheshire\, CW5 6DF\, United Kingdom
CATEGORIES:Affiliated Dressage
END:VEVENT
BEGIN:VEVENT
DTSTART;TZID=Europe/London:20230902T080000
DTEND;TZID=Europe/London:20230902T170000
DTSTAMP:20260420T104746
CREATED:20230704T133622Z
LAST-MODIFIED:20230704T133622Z
UID:126309-1693641600-1693674000@www.reaseheath.ac.uk
SUMMARY:British Dressage
DESCRIPTION:
URL:https://www.reaseheath.ac.uk/event/british-dressage-21/
LOCATION:Reaseheath Equestrian Centre\, Reaseheath College\, Nantwich\, Cheshire\, CW5 6DF\, United Kingdom
CATEGORIES:Affiliated Dressage
END:VEVENT
BEGIN:VEVENT
DTSTART;TZID=Europe/London:20230822T080000
DTEND;TZID=Europe/London:20230822T170000
DTSTAMP:20260420T104746
CREATED:20230704T123329Z
LAST-MODIFIED:20230704T123329Z
UID:126251-1692691200-1692723600@www.reaseheath.ac.uk
SUMMARY:British Dressage with Freestyle
DESCRIPTION:
URL:https://www.reaseheath.ac.uk/event/british-dressage-with-freestyle-4/
LOCATION:Reaseheath Equestrian Centre\, Reaseheath College\, Nantwich\, Cheshire\, CW5 6DF\, United Kingdom
CATEGORIES:Affiliated Dressage
END:VEVENT
BEGIN:VEVENT
DTSTART;TZID=Europe/London:20230815T080000
DTEND;TZID=Europe/London:20230815T170000
DTSTAMP:20260420T104746
CREATED:20230704T123213Z
LAST-MODIFIED:20230704T123213Z
UID:126244-1692086400-1692118800@www.reaseheath.ac.uk
SUMMARY:British Dressage
DESCRIPTION:
URL:https://www.reaseheath.ac.uk/event/british-dressage-20/
LOCATION:Reaseheath Equestrian Centre\, Reaseheath College\, Nantwich\, Cheshire\, CW5 6DF\, United Kingdom
CATEGORIES:Affiliated Dressage
END:VEVENT
BEGIN:VEVENT
DTSTART;TZID=Europe/London:20230705T080000
DTEND;TZID=Europe/London:20230705T170000
DTSTAMP:20260420T104746
CREATED:20230704T122531Z
LAST-MODIFIED:20230704T122531Z
UID:126215-1688544000-1688576400@www.reaseheath.ac.uk
SUMMARY:British Dressage with Freestyle
DESCRIPTION:
URL:https://www.reaseheath.ac.uk/event/british-dressage-with-freestyle-3/
LOCATION:Reaseheath Equestrian Centre\, Reaseheath College\, Nantwich\, Cheshire\, CW5 6DF\, United Kingdom
CATEGORIES:Affiliated Dressage
END:VEVENT
BEGIN:VEVENT
DTSTART;TZID=Europe/London:20230529T080000
DTEND;TZID=Europe/London:20230529T170000
DTSTAMP:20260420T104746
CREATED:20230415T120146Z
LAST-MODIFIED:20230415T120146Z
UID:124862-1685347200-1685379600@www.reaseheath.ac.uk
SUMMARY:British Dressage with Freestyle
DESCRIPTION:
URL:https://www.reaseheath.ac.uk/event/british-dressage-with-freestyle-2/
LOCATION:Reaseheath Equestrian Centre\, Reaseheath College\, Nantwich\, Cheshire\, CW5 6DF\, United Kingdom
CATEGORIES:Affiliated Dressage
END:VEVENT
BEGIN:VEVENT
DTSTART;TZID=Europe/London:20230506T080000
DTEND;TZID=Europe/London:20230506T170000
DTSTAMP:20260420T104746
CREATED:20230401T120437Z
LAST-MODIFIED:20230401T120437Z
UID:124575-1683360000-1683392400@www.reaseheath.ac.uk
SUMMARY:British Dressage
DESCRIPTION:
URL:https://www.reaseheath.ac.uk/event/british-dressage-19/
LOCATION:Reaseheath Equestrian Centre\, Reaseheath College\, Nantwich\, Cheshire\, CW5 6DF\, United Kingdom
CATEGORIES:Affiliated Dressage
END:VEVENT
BEGIN:VEVENT
DTSTART;TZID=Europe/London:20230403T080000
DTEND;TZID=Europe/London:20230403T170000
DTSTAMP:20260420T104746
CREATED:20230401T104228Z
LAST-MODIFIED:20230401T104228Z
UID:124481-1680508800-1680541200@www.reaseheath.ac.uk
SUMMARY:British Dressage with Freestyle
DESCRIPTION:
URL:https://www.reaseheath.ac.uk/event/british-dressage-with-freestyle/
LOCATION:Reaseheath Equestrian Centre\, Reaseheath College\, Nantwich\, Cheshire\, CW5 6DF\, United Kingdom
CATEGORIES:Affiliated Dressage
END:VEVENT
BEGIN:VEVENT
DTSTART;TZID=Europe/London:20230401T080000
DTEND;TZID=Europe/London:20230401T170000
DTSTAMP:20260420T104746
CREATED:20230401T102825Z
LAST-MODIFIED:20230401T102853Z
UID:124473-1680336000-1680368400@www.reaseheath.ac.uk
SUMMARY:British Dressage
DESCRIPTION:
URL:https://www.reaseheath.ac.uk/event/british-dressage-18/
LOCATION:Reaseheath Equestrian Centre\, Reaseheath College\, Nantwich\, Cheshire\, CW5 6DF\, United Kingdom
CATEGORIES:Affiliated Dressage
END:VEVENT
BEGIN:VEVENT
DTSTART;VALUE=DATE:20210501
DTEND;VALUE=DATE:20210502
DTSTAMP:20260420T104746
CREATED:20210318T110632Z
LAST-MODIFIED:20210318T110632Z
UID:107007-1619827200-1619913599@www.reaseheath.ac.uk
SUMMARY:British Dressage
DESCRIPTION:
URL:https://www.reaseheath.ac.uk/event/british-dressage-7/
LOCATION:Reaseheath Equestrian Centre\, Reaseheath College\, Nantwich\, Cheshire\, CW5 6DF\, United Kingdom
CATEGORIES:Affiliated Dressage
ORGANIZER;CN="Phoebe Harper":MAILTO:phoebe.harper@reaseheath.ac.uk
END:VEVENT
BEGIN:VEVENT
DTSTART;VALUE=DATE:20210414
DTEND;VALUE=DATE:20210415
DTSTAMP:20260420T104746
CREATED:20210318T110120Z
LAST-MODIFIED:20210318T110120Z
UID:106992-1618358400-1618444799@www.reaseheath.ac.uk
SUMMARY:Dressage Test Clinic
DESCRIPTION:
URL:https://www.reaseheath.ac.uk/event/dressage-test-clinic-2/
LOCATION:Reaseheath Equestrian Centre\, Reaseheath College\, Nantwich\, Cheshire\, CW5 6DF\, United Kingdom
CATEGORIES:Affiliated Dressage,Dressage to Music,Equine Clinic,Team Quest,Unaffiliated Dressage
ORGANIZER;CN="Phoebe Harper":MAILTO:phoebe.harper@reaseheath.ac.uk
END:VEVENT
BEGIN:VEVENT
DTSTART;VALUE=DATE:20210408
DTEND;VALUE=DATE:20210409
DTSTAMP:20260420T104746
CREATED:20210318T110035Z
LAST-MODIFIED:20210318T110200Z
UID:106989-1617840000-1617926399@www.reaseheath.ac.uk
SUMMARY:Dressage Test Clinic
DESCRIPTION:
URL:https://www.reaseheath.ac.uk/event/dressage-test-clinic/
LOCATION:Reaseheath Equestrian Centre\, Reaseheath College\, Nantwich\, Cheshire\, CW5 6DF\, United Kingdom
CATEGORIES:Affiliated Dressage,Dressage to Music,Equine Clinic,Team Quest,Unaffiliated Dressage
ORGANIZER;CN="Phoebe Harper":MAILTO:phoebe.harper@reaseheath.ac.uk
END:VEVENT
BEGIN:VEVENT
DTSTART;VALUE=DATE:20210130
DTEND;VALUE=DATE:20210131
DTSTAMP:20260420T104746
CREATED:20201110T103938Z
LAST-MODIFIED:20201110T103938Z
UID:104418-1611964800-1612051199@www.reaseheath.ac.uk
SUMMARY:Team Quest
DESCRIPTION:
URL:https://www.reaseheath.ac.uk/event/team-quest-14/
LOCATION:Reaseheath Equestrian Centre\, Reaseheath College\, Nantwich\, Cheshire\, CW5 6DF\, United Kingdom
CATEGORIES:Affiliated Dressage
ORGANIZER;CN="Phoebe Harper":MAILTO:phoebe.harper@reaseheath.ac.uk
END:VEVENT
BEGIN:VEVENT
DTSTART;VALUE=DATE:20210109
DTEND;VALUE=DATE:20210110
DTSTAMP:20260420T104746
CREATED:20201110T103720Z
LAST-MODIFIED:20201110T103720Z
UID:104409-1610150400-1610236799@www.reaseheath.ac.uk
SUMMARY:British Dressage
DESCRIPTION:
URL:https://www.reaseheath.ac.uk/event/british-dressage-6/
LOCATION:Reaseheath Equestrian Centre\, Reaseheath College\, Nantwich\, Cheshire\, CW5 6DF\, United Kingdom
CATEGORIES:Affiliated Dressage
ORGANIZER;CN="Phoebe Harper":MAILTO:phoebe.harper@reaseheath.ac.uk
END:VEVENT
BEGIN:VEVENT
DTSTART;VALUE=DATE:20201219
DTEND;VALUE=DATE:20201220
DTSTAMP:20260420T104746
CREATED:20201110T103457Z
LAST-MODIFIED:20201110T103457Z
UID:104403-1608336000-1608422399@www.reaseheath.ac.uk
SUMMARY:Affiliated Dressage
DESCRIPTION:
URL:https://www.reaseheath.ac.uk/event/affiliated-dressage-15/
LOCATION:Reaseheath Equestrian Centre\, Reaseheath College\, Nantwich\, Cheshire\, CW5 6DF\, United Kingdom
CATEGORIES:Affiliated Dressage
ORGANIZER;CN="Phoebe Harper":MAILTO:phoebe.harper@reaseheath.ac.uk
END:VEVENT
BEGIN:VEVENT
DTSTART;VALUE=DATE:20200905
DTEND;VALUE=DATE:20200906
DTSTAMP:20260420T104746
CREATED:20200829T084710Z
LAST-MODIFIED:20200829T084710Z
UID:102217-1599264000-1599350399@www.reaseheath.ac.uk
SUMMARY:Affiliated Dressage
DESCRIPTION:
URL:https://www.reaseheath.ac.uk/event/affiliated-dressage-11/
LOCATION:Reaseheath Equestrian Centre\, Reaseheath College\, Nantwich\, Cheshire\, CW5 6DF\, United Kingdom
CATEGORIES:Affiliated Dressage
ORGANIZER;CN="Phoebe Harper":MAILTO:phoebe.harper@reaseheath.ac.uk
END:VEVENT
BEGIN:VEVENT
DTSTART;TZID=Europe/London:20200510T080000
DTEND;TZID=Europe/London:20200510T170000
DTSTAMP:20260420T104746
CREATED:20191009T131203Z
LAST-MODIFIED:20191009T131203Z
UID:93776-1589097600-1589130000@www.reaseheath.ac.uk
SUMMARY:British Dressage
DESCRIPTION:
URL:https://www.reaseheath.ac.uk/event/british-dressage-5/
LOCATION:Reaseheath Equestrian Centre\, Reaseheath College\, Nantwich\, Cheshire\, CW5 6DF\, United Kingdom
CATEGORIES:Affiliated Dressage
ORGANIZER;CN="Phoebe Harper":MAILTO:phoebe.harper@reaseheath.ac.uk
END:VEVENT
BEGIN:VEVENT
DTSTART;TZID=Europe/London:20200404T080000
DTEND;TZID=Europe/London:20200404T170000
DTSTAMP:20260420T104746
CREATED:20191009T130050Z
LAST-MODIFIED:20191009T130050Z
UID:93755-1585987200-1586019600@www.reaseheath.ac.uk
SUMMARY:British Dressage
DESCRIPTION:
URL:https://www.reaseheath.ac.uk/event/british-dressage-4/
LOCATION:Reaseheath Equestrian Centre\, Reaseheath College\, Nantwich\, Cheshire\, CW5 6DF\, United Kingdom
CATEGORIES:Affiliated Dressage
ORGANIZER;CN="Phoebe Harper":MAILTO:phoebe.harper@reaseheath.ac.uk
END:VEVENT
BEGIN:VEVENT
DTSTART;TZID=Europe/London:20200307T080000
DTEND;TZID=Europe/London:20200307T170000
DTSTAMP:20260420T104746
CREATED:20191009T120601Z
LAST-MODIFIED:20191009T120601Z
UID:93739-1583568000-1583600400@www.reaseheath.ac.uk
SUMMARY:British Dressage
DESCRIPTION:
URL:https://www.reaseheath.ac.uk/event/british-dressage-3/
LOCATION:Reaseheath Equestrian Centre\, Reaseheath College\, Nantwich\, Cheshire\, CW5 6DF\, United Kingdom
CATEGORIES:Affiliated Dressage
ORGANIZER;CN="Phoebe Harper":MAILTO:phoebe.harper@reaseheath.ac.uk
END:VEVENT
BEGIN:VEVENT
DTSTART;TZID=Europe/London:20200201T080000
DTEND;TZID=Europe/London:20200201T170000
DTSTAMP:20260420T104746
CREATED:20191009T111009Z
LAST-MODIFIED:20191009T111009Z
UID:93717-1580544000-1580576400@www.reaseheath.ac.uk
SUMMARY:British Dressage
DESCRIPTION:
URL:https://www.reaseheath.ac.uk/event/british-dressage-2/
LOCATION:Reaseheath Equestrian Centre\, Reaseheath College\, Nantwich\, Cheshire\, CW5 6DF\, United Kingdom
CATEGORIES:Affiliated Dressage
ORGANIZER;CN="Phoebe Harper":MAILTO:phoebe.harper@reaseheath.ac.uk
END:VEVENT
BEGIN:VEVENT
DTSTART;TZID=Europe/London:20200125T080000
DTEND;TZID=Europe/London:20200125T170000
DTSTAMP:20260420T104746
CREATED:20191009T110752Z
LAST-MODIFIED:20191009T110752Z
UID:93711-1579939200-1579971600@www.reaseheath.ac.uk
SUMMARY:Team Quest
DESCRIPTION:
URL:https://www.reaseheath.ac.uk/event/team-quest-9/
LOCATION:Reaseheath Equestrian Centre\, Reaseheath College\, Nantwich\, Cheshire\, CW5 6DF\, United Kingdom
CATEGORIES:Affiliated Dressage,Team Quest
ORGANIZER;CN="Phoebe Harper":MAILTO:phoebe.harper@reaseheath.ac.uk
END:VEVENT
BEGIN:VEVENT
DTSTART;TZID=Europe/London:20200111T080000
DTEND;TZID=Europe/London:20200111T170000
DTSTAMP:20260420T104746
CREATED:20191009T110502Z
LAST-MODIFIED:20191009T110502Z
UID:93694-1578729600-1578762000@www.reaseheath.ac.uk
SUMMARY:British Dressage Ideal Saddles Combined Training Qualifier
DESCRIPTION:
URL:https://www.reaseheath.ac.uk/event/british-dressage-ideal-saddles-combined-training-qualifier/
LOCATION:Reaseheath Equestrian Centre\, Reaseheath College\, Nantwich\, Cheshire\, CW5 6DF\, United Kingdom
CATEGORIES:Affiliated Dressage,Combined Training
ORGANIZER;CN="Phoebe Harper":MAILTO:phoebe.harper@reaseheath.ac.uk
END:VEVENT
BEGIN:VEVENT
DTSTART;TZID=Europe/London:20200104T080000
DTEND;TZID=Europe/London:20200104T170000
DTSTAMP:20260420T104746
CREATED:20191009T104153Z
LAST-MODIFIED:20191009T104153Z
UID:93688-1578124800-1578157200@www.reaseheath.ac.uk
SUMMARY:British Dressage
DESCRIPTION:
URL:https://www.reaseheath.ac.uk/event/british-dressage/
LOCATION:Reaseheath Equestrian Centre\, Reaseheath College\, Nantwich\, Cheshire\, CW5 6DF\, United Kingdom
CATEGORIES:Affiliated Dressage
ORGANIZER;CN="Phoebe Harper":MAILTO:phoebe.harper@reaseheath.ac.uk
END:VEVENT
BEGIN:VEVENT
DTSTART;TZID=Europe/London:20191207T080000
DTEND;TZID=Europe/London:20191207T170000
DTSTAMP:20260420T104746
CREATED:20190924T160335Z
LAST-MODIFIED:20190924T160335Z
UID:91889-1575705600-1575738000@www.reaseheath.ac.uk
SUMMARY:Affiliated Dressage
DESCRIPTION:
URL:https://www.reaseheath.ac.uk/event/affiliated-dressage-10/
LOCATION:Reaseheath Equestrian Centre\, Reaseheath College\, Nantwich\, Cheshire\, CW5 6DF\, United Kingdom
CATEGORIES:Affiliated Dressage
ORGANIZER;CN="Phoebe Harper":MAILTO:phoebe.harper@reaseheath.ac.uk
END:VEVENT
BEGIN:VEVENT
DTSTART;TZID=Europe/London:20191102T080000
DTEND;TZID=Europe/London:20191102T170000
DTSTAMP:20260420T104746
CREATED:20190924T155900Z
LAST-MODIFIED:20190924T155900Z
UID:91870-1572681600-1572714000@www.reaseheath.ac.uk
SUMMARY:Affiliated Dressage
DESCRIPTION:
URL:https://www.reaseheath.ac.uk/event/affiliated-dressage-9/
LOCATION:Reaseheath Equestrian Centre\, Reaseheath College\, Nantwich\, Cheshire\, CW5 6DF\, United Kingdom
CATEGORIES:Affiliated Dressage
ORGANIZER;CN="Phoebe Harper":MAILTO:phoebe.harper@reaseheath.ac.uk
END:VEVENT
BEGIN:VEVENT
DTSTART;TZID=Europe/London:20191005T080000
DTEND;TZID=Europe/London:20191005T170000
DTSTAMP:20260420T104746
CREATED:20190924T155506Z
LAST-MODIFIED:20190924T155506Z
UID:91850-1570262400-1570294800@www.reaseheath.ac.uk
SUMMARY:Affiliated Dressage
DESCRIPTION:
URL:https://www.reaseheath.ac.uk/event/affiliated-dressage-8/
LOCATION:Reaseheath Equestrian Centre\, Reaseheath College\, Nantwich\, Cheshire\, CW5 6DF\, United Kingdom
CATEGORIES:Affiliated Dressage
ORGANIZER;CN="Phoebe Harper":MAILTO:phoebe.harper@reaseheath.ac.uk
END:VEVENT
BEGIN:VEVENT
DTSTART;VALUE=DATE:20190706
DTEND;VALUE=DATE:20190707
DTSTAMP:20260420T104746
CREATED:20181217T144309Z
LAST-MODIFIED:20181217T144309Z
UID:84443-1562371200-1562457599@www.reaseheath.ac.uk
SUMMARY:Affiliated Dressage
DESCRIPTION:
URL:https://www.reaseheath.ac.uk/event/affiliated-dressage-7/
LOCATION:Reaseheath Equestrian Centre\, Reaseheath College\, Nantwich\, Cheshire\, CW5 6DF\, United Kingdom
CATEGORIES:Affiliated Dressage
ORGANIZER;CN="Phoebe Harper":MAILTO:phoebe.harper@reaseheath.ac.uk
END:VEVENT
BEGIN:VEVENT
DTSTART;VALUE=DATE:20190601
DTEND;VALUE=DATE:20190602
DTSTAMP:20260420T104746
CREATED:20181217T143218Z
LAST-MODIFIED:20181217T143218Z
UID:84423-1559347200-1559433599@www.reaseheath.ac.uk
SUMMARY:Affiliated Dressage
DESCRIPTION:
URL:https://www.reaseheath.ac.uk/event/affiliated-dressage-6/
LOCATION:Reaseheath Equestrian Centre\, Reaseheath College\, Nantwich\, Cheshire\, CW5 6DF\, United Kingdom
CATEGORIES:Affiliated Dressage
ORGANIZER;CN="Phoebe Harper":MAILTO:phoebe.harper@reaseheath.ac.uk
END:VEVENT
END:VCALENDAR