BEGIN:VCALENDAR
VERSION:2.0
PRODID:-//Reaseheath College - ECPv6.10.1.1//NONSGML v1.0//EN
CALSCALE:GREGORIAN
METHOD:PUBLISH
X-WR-CALNAME:Reaseheath College
X-ORIGINAL-URL:https://www.reaseheath.ac.uk
X-WR-CALDESC:Events for Reaseheath College
REFRESH-INTERVAL;VALUE=DURATION:PT1H
X-Robots-Tag:noindex
X-PUBLISHED-TTL:PT1H
BEGIN:VTIMEZONE
TZID:Europe/London
BEGIN:DAYLIGHT
TZOFFSETFROM:+0000
TZOFFSETTO:+0100
TZNAME:BST
DTSTART:20170326T010000
END:DAYLIGHT
BEGIN:STANDARD
TZOFFSETFROM:+0100
TZOFFSETTO:+0000
TZNAME:GMT
DTSTART:20171029T010000
END:STANDARD
BEGIN:DAYLIGHT
TZOFFSETFROM:+0000
TZOFFSETTO:+0100
TZNAME:BST
DTSTART:20180325T010000
END:DAYLIGHT
BEGIN:STANDARD
TZOFFSETFROM:+0100
TZOFFSETTO:+0000
TZNAME:GMT
DTSTART:20181028T010000
END:STANDARD
BEGIN:DAYLIGHT
TZOFFSETFROM:+0000
TZOFFSETTO:+0100
TZNAME:BST
DTSTART:20190331T010000
END:DAYLIGHT
BEGIN:STANDARD
TZOFFSETFROM:+0100
TZOFFSETTO:+0000
TZNAME:GMT
DTSTART:20191027T010000
END:STANDARD
END:VTIMEZONE
BEGIN:VEVENT
DTSTART;VALUE=DATE:20190504
DTEND;VALUE=DATE:20190505
DTSTAMP:20260420T152200
CREATED:20181217T141806Z
LAST-MODIFIED:20181217T141806Z
UID:84404-1556928000-1557014399@www.reaseheath.ac.uk
SUMMARY:Affiliated Dressage
DESCRIPTION:
URL:https://www.reaseheath.ac.uk/event/affiliated-dressage-5/
LOCATION:Reaseheath Equestrian Centre\, Reaseheath College\, Nantwich\, Cheshire\, CW5 6DF\, United Kingdom
CATEGORIES:Affiliated Dressage
ORGANIZER;CN="Phoebe Harper":MAILTO:phoebe.harper@reaseheath.ac.uk
END:VEVENT
BEGIN:VEVENT
DTSTART;VALUE=DATE:20190406
DTEND;VALUE=DATE:20190407
DTSTAMP:20260420T152200
CREATED:20181217T141204Z
LAST-MODIFIED:20181217T141204Z
UID:84386-1554508800-1554595199@www.reaseheath.ac.uk
SUMMARY:Affiliated Dressage
DESCRIPTION:
URL:https://www.reaseheath.ac.uk/event/affiliated-dressage-4/
LOCATION:Reaseheath Equestrian Centre\, Reaseheath College\, Nantwich\, Cheshire\, CW5 6DF\, United Kingdom
CATEGORIES:Affiliated Dressage
ORGANIZER;CN="Phoebe Harper":MAILTO:phoebe.harper@reaseheath.ac.uk
END:VEVENT
BEGIN:VEVENT
DTSTART;VALUE=DATE:20190302
DTEND;VALUE=DATE:20190303
DTSTAMP:20260420T152200
CREATED:20181217T140137Z
LAST-MODIFIED:20181217T140137Z
UID:84370-1551484800-1551571199@www.reaseheath.ac.uk
SUMMARY:Affiliated Dressage
DESCRIPTION:
URL:https://www.reaseheath.ac.uk/event/affiliated-dressage-3/
LOCATION:Reaseheath Equestrian Centre\, Reaseheath College\, Nantwich\, Cheshire\, CW5 6DF\, United Kingdom
CATEGORIES:Affiliated Dressage
ORGANIZER;CN="Phoebe Harper":MAILTO:phoebe.harper@reaseheath.ac.uk
END:VEVENT
BEGIN:VEVENT
DTSTART;VALUE=DATE:20170701
DTEND;VALUE=DATE:20170702
DTSTAMP:20260420T152200
CREATED:20170216T094044Z
LAST-MODIFIED:20170216T094059Z
UID:62480-1498867200-1498953599@www.reaseheath.ac.uk
SUMMARY:Affiliated Dressage
DESCRIPTION:Whatever your dressage experience\, we have a competition to help you reach your goals and progress up the levels at a pace that suits you. Our competition structure ensures there’s no pressure to rush up the grades until you prove you’re ready; you’ll be competing in sections against riders of a similar ability and there’s lots of opportunity. \nPrize money to 3rd place and rosettes to 6th place (subject to the number of starters in class). \nFor further information and competition rules please check the British Dressage website. \nDownload new BD entry forms here. \nPlease note that entries close 2 weeks prior to competitions\, however we will try and to accept as many late entries as possible with a £2 late entry charge.
URL:https://www.reaseheath.ac.uk/event/62480/
LOCATION:Reaseheath Equestrian Centre\, Reaseheath College\, Nantwich\, Cheshire\, CW5 6DF\, United Kingdom
CATEGORIES:Affiliated Dressage
ATTACH;FMTTYPE=image/jpeg:https://www.reaseheath.ac.uk/wp-content/uploads/2017/02/Affiliated-Dressage.jpg
ORGANIZER;CN="Heather Cooper":MAILTO:heather.cooper@reaseheath.ac.uk
END:VEVENT
BEGIN:VEVENT
DTSTART;VALUE=DATE:20170506
DTEND;VALUE=DATE:20170507
DTSTAMP:20260420T152200
CREATED:20170216T093857Z
LAST-MODIFIED:20170216T093914Z
UID:62474-1494028800-1494115199@www.reaseheath.ac.uk
SUMMARY:Affiliated Dressage
DESCRIPTION:Whatever your dressage experience\, we have a competition to help you reach your goals and progress up the levels at a pace that suits you. Our competition structure ensures there’s no pressure to rush up the grades until you prove you’re ready; you’ll be competing in sections against riders of a similar ability and there’s lots of opportunity. \nPrize money to 3rd place and rosettes to 6th place (subject to the number of starters in class). \nFor further information and competition rules please check the British Dressage website. \nDownload new BD entry forms here. \nPlease note that entries close 2 weeks prior to competitions\, however we will try and to accept as many late entries as possible with a £2 late entry charge.
URL:https://www.reaseheath.ac.uk/event/62474/
LOCATION:Reaseheath Equestrian Centre\, Reaseheath College\, Nantwich\, Cheshire\, CW5 6DF\, United Kingdom
CATEGORIES:Affiliated Dressage
ATTACH;FMTTYPE=image/jpeg:https://www.reaseheath.ac.uk/wp-content/uploads/2017/02/Affiliated-Dressage.jpg
ORGANIZER;CN="Heather Cooper":MAILTO:heather.cooper@reaseheath.ac.uk
END:VEVENT
BEGIN:VEVENT
DTSTART;VALUE=DATE:20170401
DTEND;VALUE=DATE:20170402
DTSTAMP:20260420T152200
CREATED:20170215T155140Z
LAST-MODIFIED:20170215T162057Z
UID:62462-1491004800-1491091199@www.reaseheath.ac.uk
SUMMARY:Affiliated Dressage Competition
DESCRIPTION:Whatever your dressage experience\, we have a competition to help you reach your goals and progress up the levels at a pace that suits you. Our competition structure ensures there’s no pressure to rush up the grades until you prove you’re ready; you’ll be competing in sections against riders of a similar ability and there’s lots of opportunity. \nPrize money to 3rd place and rosettes to 6th place (subject to the number of starters in class). \nFor further information and competition rules please check the British Dressage website. \nDownload new BD entry forms here. \nPlease note that entries close 2 weeks prior to competitions\, however we will try and to accept as many late entries as possible with a £2 late entry charge.
URL:https://www.reaseheath.ac.uk/event/affiliated-dressage-competition-2/
LOCATION:Reaseheath Equestrian Centre\, Reaseheath College\, Nantwich\, Cheshire\, CW5 6DF\, United Kingdom
CATEGORIES:Affiliated Dressage
ATTACH;FMTTYPE=image/jpeg:https://www.reaseheath.ac.uk/wp-content/uploads/2017/02/Affiliated-Dressage.jpg
ORGANIZER;CN="Heather Cooper":MAILTO:heather.cooper@reaseheath.ac.uk
END:VEVENT
BEGIN:VEVENT
DTSTART;VALUE=DATE:20170304
DTEND;VALUE=DATE:20170305
DTSTAMP:20260420T152200
CREATED:20170207T140206Z
LAST-MODIFIED:20170215T161813Z
UID:62204-1488585600-1488671999@www.reaseheath.ac.uk
SUMMARY:Affiliated Dressage Competition
DESCRIPTION:Whatever your dressage experience\, we have a competition to help you reach your goals and progress up the levels at a pace that suits you. Our competition structure ensures there’s no pressure to rush up the grades until you prove you’re ready; you’ll be competing in sections against riders of a similar ability and there’s lots of opportunity. \nPrize money to 3rd place and rosettes to 6th place (subject to the number of starters in class). \nFor further information and competition rules please check the British Dressage website. \nDownload new BD entry forms here. \nPlease note that entries close 2 weeks prior to competitions\, however we will try and to accept as many late entries as possible with a £2 late entry charge.
URL:https://www.reaseheath.ac.uk/event/affiliated-dressage-competition/
LOCATION:Reaseheath Equestrian Centre\, Reaseheath College\, Nantwich\, Cheshire\, CW5 6DF\, United Kingdom
CATEGORIES:Affiliated Dressage
ATTACH;FMTTYPE=image/jpeg:https://www.reaseheath.ac.uk/wp-content/uploads/2017/02/Affiliated-Dressage.jpg
ORGANIZER;CN="Heather Cooper":MAILTO:heather.cooper@reaseheath.ac.uk
END:VEVENT
END:VCALENDAR