BEGIN:VCALENDAR
VERSION:2.0
PRODID:-//Reaseheath College - ECPv6.10.1.1//NONSGML v1.0//EN
CALSCALE:GREGORIAN
METHOD:PUBLISH
X-ORIGINAL-URL:https://www.reaseheath.ac.uk
X-WR-CALDESC:Events for Reaseheath College
REFRESH-INTERVAL;VALUE=DURATION:PT1H
X-Robots-Tag:noindex
X-PUBLISHED-TTL:PT1H
BEGIN:VTIMEZONE
TZID:Europe/London
BEGIN:DAYLIGHT
TZOFFSETFROM:+0000
TZOFFSETTO:+0100
TZNAME:BST
DTSTART:20260329T010000
END:DAYLIGHT
BEGIN:STANDARD
TZOFFSETFROM:+0100
TZOFFSETTO:+0000
TZNAME:GMT
DTSTART:20261025T010000
END:STANDARD
END:VTIMEZONE
BEGIN:VEVENT
DTSTART;TZID=Europe/London:20260111T093000
DTEND;TZID=Europe/London:20260111T170000
DTSTAMP:20260420T220713
CREATED:20260108T094517Z
LAST-MODIFIED:20260108T094517Z
UID:145864-1768123800-1768150800@www.reaseheath.ac.uk
SUMMARY:Winter Showing Series
DESCRIPTION:https://horsemonkey.com/uk/equestrian_event/82200/43504SHO4+-+Winter+Showing+Series+%40+Reaseheath+College
URL:https://www.reaseheath.ac.uk/event/winter-showing-series/
CATEGORIES:Showing
END:VEVENT
END:VCALENDAR