BEGIN:VCALENDAR
VERSION:2.0
PRODID:-//Reaseheath College - ECPv6.10.1.1//NONSGML v1.0//EN
CALSCALE:GREGORIAN
METHOD:PUBLISH
X-ORIGINAL-URL:https://www.reaseheath.ac.uk
X-WR-CALDESC:Events for Reaseheath College
REFRESH-INTERVAL;VALUE=DURATION:PT1H
X-Robots-Tag:noindex
X-PUBLISHED-TTL:PT1H
BEGIN:VTIMEZONE
TZID:Europe/London
BEGIN:DAYLIGHT
TZOFFSETFROM:+0000
TZOFFSETTO:+0100
TZNAME:BST
DTSTART:20190331T010000
END:DAYLIGHT
BEGIN:STANDARD
TZOFFSETFROM:+0100
TZOFFSETTO:+0000
TZNAME:GMT
DTSTART:20191027T010000
END:STANDARD
END:VTIMEZONE
BEGIN:VEVENT
DTSTART;VALUE=DATE:20190601
DTEND;VALUE=DATE:20190602
DTSTAMP:20260421T193655
CREATED:20181217T143218Z
LAST-MODIFIED:20181217T143218Z
UID:84423-1559347200-1559433599@www.reaseheath.ac.uk
SUMMARY:Affiliated Dressage
DESCRIPTION:
URL:https://www.reaseheath.ac.uk/event/affiliated-dressage-6/
LOCATION:Reaseheath Equestrian Centre\, Reaseheath College\, Nantwich\, Cheshire\, CW5 6DF\, United Kingdom
CATEGORIES:Affiliated Dressage
ORGANIZER;CN="Phoebe Harper":MAILTO:phoebe.harper@reaseheath.ac.uk
END:VEVENT
BEGIN:VEVENT
DTSTART;VALUE=DATE:20190602
DTEND;VALUE=DATE:20190603
DTSTAMP:20260421T193655
CREATED:20181217T143402Z
LAST-MODIFIED:20181217T143402Z
UID:84426-1559433600-1559519999@www.reaseheath.ac.uk
SUMMARY:Unaffiliated Dressage
DESCRIPTION:
URL:https://www.reaseheath.ac.uk/event/unaffiliated-dressage-12/
LOCATION:Reaseheath Equestrian Centre\, Reaseheath College\, Nantwich\, Cheshire\, CW5 6DF\, United Kingdom
CATEGORIES:Unaffiliated Dressage
ORGANIZER;CN="Phoebe Harper":MAILTO:phoebe.harper@reaseheath.ac.uk
END:VEVENT
BEGIN:VEVENT
DTSTART;TZID=Europe/London:20190607T170000
DTEND;TZID=Europe/London:20190607T193000
DTSTAMP:20260421T193655
CREATED:20181217T143538Z
LAST-MODIFIED:20181217T143538Z
UID:84429-1559926800-1559935800@www.reaseheath.ac.uk
SUMMARY:Evening Showjumping Practise
DESCRIPTION:
URL:https://www.reaseheath.ac.uk/event/evening-showjumping-practise-5/
LOCATION:Reaseheath Equestrian Centre\, Reaseheath College\, Nantwich\, Cheshire\, CW5 6DF\, United Kingdom
CATEGORIES:Show Jumping
ORGANIZER;CN="Phoebe Harper":MAILTO:phoebe.harper@reaseheath.ac.uk
END:VEVENT
BEGIN:VEVENT
DTSTART;VALUE=DATE:20190608
DTEND;VALUE=DATE:20190609
DTSTAMP:20260421T193655
CREATED:20181217T143615Z
LAST-MODIFIED:20181217T143615Z
UID:84432-1559952000-1560038399@www.reaseheath.ac.uk
SUMMARY:Showjumping Competition
DESCRIPTION:
URL:https://www.reaseheath.ac.uk/event/showjumping-competition-6/
LOCATION:Reaseheath Equestrian Centre\, Reaseheath College\, Nantwich\, Cheshire\, CW5 6DF\, United Kingdom
ORGANIZER;CN="Phoebe Harper":MAILTO:phoebe.harper@reaseheath.ac.uk
END:VEVENT
BEGIN:VEVENT
DTSTART;VALUE=DATE:20190609
DTEND;VALUE=DATE:20190610
DTSTAMP:20260421T193655
CREATED:20181217T144021Z
LAST-MODIFIED:20181217T144021Z
UID:84435-1560038400-1560124799@www.reaseheath.ac.uk
SUMMARY:Combined Training
DESCRIPTION:
URL:https://www.reaseheath.ac.uk/event/combined-training-7/
LOCATION:Reaseheath Equestrian Centre\, Reaseheath College\, Nantwich\, Cheshire\, CW5 6DF\, United Kingdom
CATEGORIES:Combined Training
ORGANIZER;CN="Phoebe Harper":MAILTO:phoebe.harper@reaseheath.ac.uk
END:VEVENT
BEGIN:VEVENT
DTSTART;VALUE=DATE:20190622
DTEND;VALUE=DATE:20190623
DTSTAMP:20260421T193655
CREATED:20181217T144128Z
LAST-MODIFIED:20181217T144128Z
UID:84438-1561161600-1561247999@www.reaseheath.ac.uk
SUMMARY:Team Quest
DESCRIPTION:
URL:https://www.reaseheath.ac.uk/event/team-quest-6/
LOCATION:Reaseheath Equestrian Centre\, Reaseheath College\, Nantwich\, Cheshire\, CW5 6DF\, United Kingdom
CATEGORIES:Team Quest
ORGANIZER;CN="Phoebe Harper":MAILTO:phoebe.harper@reaseheath.ac.uk
END:VEVENT
BEGIN:VEVENT
DTSTART;VALUE=DATE:20190630
DTEND;VALUE=DATE:20190701
DTSTAMP:20260421T193655
CREATED:20181217T144212Z
LAST-MODIFIED:20190529T085620Z
UID:84441-1561852800-1561939199@www.reaseheath.ac.uk
SUMMARY:Showing
DESCRIPTION:
URL:https://www.reaseheath.ac.uk/event/showing-4/
LOCATION:Reaseheath Equestrian Centre\, Reaseheath College\, Nantwich\, Cheshire\, CW5 6DF\, United Kingdom
CATEGORIES:Showing
ORGANIZER;CN="Phoebe Harper":MAILTO:phoebe.harper@reaseheath.ac.uk
END:VEVENT
END:VCALENDAR