BEGIN:VCALENDAR
VERSION:2.0
PRODID:-//Reaseheath College - ECPv6.10.1.1//NONSGML v1.0//EN
CALSCALE:GREGORIAN
METHOD:PUBLISH
X-WR-CALNAME:Reaseheath College
X-ORIGINAL-URL:https://www.reaseheath.ac.uk
X-WR-CALDESC:Events for Reaseheath College
REFRESH-INTERVAL;VALUE=DURATION:PT1H
X-Robots-Tag:noindex
X-PUBLISHED-TTL:PT1H
BEGIN:VTIMEZONE
TZID:Europe/London
BEGIN:DAYLIGHT
TZOFFSETFROM:+0000
TZOFFSETTO:+0100
TZNAME:BST
DTSTART:20200329T010000
END:DAYLIGHT
BEGIN:STANDARD
TZOFFSETFROM:+0100
TZOFFSETTO:+0000
TZNAME:GMT
DTSTART:20201025T010000
END:STANDARD
END:VTIMEZONE
BEGIN:VEVENT
DTSTART;TZID=Europe/London:20200104T080000
DTEND;TZID=Europe/London:20200104T170000
DTSTAMP:20260421T080102
CREATED:20191009T104153Z
LAST-MODIFIED:20191009T104153Z
UID:93688-1578124800-1578157200@www.reaseheath.ac.uk
SUMMARY:British Dressage
DESCRIPTION:
URL:https://www.reaseheath.ac.uk/event/british-dressage/
LOCATION:Reaseheath Equestrian Centre\, Reaseheath College\, Nantwich\, Cheshire\, CW5 6DF\, United Kingdom
CATEGORIES:Affiliated Dressage
ORGANIZER;CN="Phoebe Harper":MAILTO:phoebe.harper@reaseheath.ac.uk
END:VEVENT
BEGIN:VEVENT
DTSTART;TZID=Europe/London:20200105T080000
DTEND;TZID=Europe/London:20200105T170000
DTSTAMP:20260421T080102
CREATED:20191009T104526Z
LAST-MODIFIED:20191009T104526Z
UID:93691-1578211200-1578243600@www.reaseheath.ac.uk
SUMMARY:Unaffiliated Dressage
DESCRIPTION:
URL:https://www.reaseheath.ac.uk/event/unaffiliated-dressage-17/
LOCATION:Reaseheath Equestrian Centre\, Reaseheath College\, Nantwich\, Cheshire\, CW5 6DF\, United Kingdom
CATEGORIES:Unaffiliated Dressage
ORGANIZER;CN="Phoebe Harper":MAILTO:phoebe.harper@reaseheath.ac.uk
END:VEVENT
BEGIN:VEVENT
DTSTART;TZID=Europe/London:20200111T080000
DTEND;TZID=Europe/London:20200111T170000
DTSTAMP:20260421T080102
CREATED:20191009T110502Z
LAST-MODIFIED:20191009T110502Z
UID:93694-1578729600-1578762000@www.reaseheath.ac.uk
SUMMARY:British Dressage Ideal Saddles Combined Training Qualifier
DESCRIPTION:
URL:https://www.reaseheath.ac.uk/event/british-dressage-ideal-saddles-combined-training-qualifier/
LOCATION:Reaseheath Equestrian Centre\, Reaseheath College\, Nantwich\, Cheshire\, CW5 6DF\, United Kingdom
CATEGORIES:Affiliated Dressage,Combined Training
ORGANIZER;CN="Phoebe Harper":MAILTO:phoebe.harper@reaseheath.ac.uk
END:VEVENT
BEGIN:VEVENT
DTSTART;TZID=Europe/London:20200112T080000
DTEND;TZID=Europe/London:20200112T170000
DTSTAMP:20260421T080102
CREATED:20191009T110715Z
LAST-MODIFIED:20191009T110715Z
UID:93708-1578816000-1578848400@www.reaseheath.ac.uk
SUMMARY:Showjumping Competition
DESCRIPTION:
URL:https://www.reaseheath.ac.uk/event/showjumping-competition-11/
LOCATION:Reaseheath Equestrian Centre\, Reaseheath College\, Nantwich\, Cheshire\, CW5 6DF\, United Kingdom
CATEGORIES:Show Jumping
ORGANIZER;CN="Phoebe Harper":MAILTO:phoebe.harper@reaseheath.ac.uk
END:VEVENT
BEGIN:VEVENT
DTSTART;TZID=Europe/London:20200125T080000
DTEND;TZID=Europe/London:20200125T170000
DTSTAMP:20260421T080102
CREATED:20191009T110752Z
LAST-MODIFIED:20191009T110752Z
UID:93711-1579939200-1579971600@www.reaseheath.ac.uk
SUMMARY:Team Quest
DESCRIPTION:
URL:https://www.reaseheath.ac.uk/event/team-quest-9/
LOCATION:Reaseheath Equestrian Centre\, Reaseheath College\, Nantwich\, Cheshire\, CW5 6DF\, United Kingdom
CATEGORIES:Affiliated Dressage,Team Quest
ORGANIZER;CN="Phoebe Harper":MAILTO:phoebe.harper@reaseheath.ac.uk
END:VEVENT
BEGIN:VEVENT
DTSTART;TZID=Europe/London:20200126T080000
DTEND;TZID=Europe/London:20200126T170000
DTSTAMP:20260421T080102
CREATED:20191009T110821Z
LAST-MODIFIED:20191009T110821Z
UID:93713-1580025600-1580058000@www.reaseheath.ac.uk
SUMMARY:Showing
DESCRIPTION:
URL:https://www.reaseheath.ac.uk/event/showing-9/
LOCATION:Reaseheath Equestrian Centre\, Reaseheath College\, Nantwich\, Cheshire\, CW5 6DF\, United Kingdom
CATEGORIES:Showing
ORGANIZER;CN="Phoebe Harper":MAILTO:phoebe.harper@reaseheath.ac.uk
END:VEVENT
END:VCALENDAR