BEGIN:VCALENDAR
VERSION:2.0
PRODID:-//Reaseheath College - ECPv6.10.1.1//NONSGML v1.0//EN
CALSCALE:GREGORIAN
METHOD:PUBLISH
X-ORIGINAL-URL:https://www.reaseheath.ac.uk
X-WR-CALDESC:Events for Reaseheath College
REFRESH-INTERVAL;VALUE=DURATION:PT1H
X-Robots-Tag:noindex
X-PUBLISHED-TTL:PT1H
BEGIN:VTIMEZONE
TZID:Europe/London
BEGIN:DAYLIGHT
TZOFFSETFROM:+0000
TZOFFSETTO:+0100
TZNAME:BST
DTSTART:20200329T010000
END:DAYLIGHT
BEGIN:STANDARD
TZOFFSETFROM:+0100
TZOFFSETTO:+0000
TZNAME:GMT
DTSTART:20201025T010000
END:STANDARD
END:VTIMEZONE
BEGIN:VEVENT
DTSTART;TZID=Europe/London:20200201T080000
DTEND;TZID=Europe/London:20200201T170000
DTSTAMP:20260421T062442
CREATED:20191009T111009Z
LAST-MODIFIED:20191009T111009Z
UID:93717-1580544000-1580576400@www.reaseheath.ac.uk
SUMMARY:British Dressage
DESCRIPTION:
URL:https://www.reaseheath.ac.uk/event/british-dressage-2/
LOCATION:Reaseheath Equestrian Centre\, Reaseheath College\, Nantwich\, Cheshire\, CW5 6DF\, United Kingdom
CATEGORIES:Affiliated Dressage
ORGANIZER;CN="Phoebe Harper":MAILTO:phoebe.harper@reaseheath.ac.uk
END:VEVENT
BEGIN:VEVENT
DTSTART;TZID=Europe/London:20200202T080000
DTEND;TZID=Europe/London:20200202T170000
DTSTAMP:20260421T062442
CREATED:20191009T120236Z
LAST-MODIFIED:20191009T120236Z
UID:93724-1580630400-1580662800@www.reaseheath.ac.uk
SUMMARY:Unaffiliated Dressage
DESCRIPTION:
URL:https://www.reaseheath.ac.uk/event/unaffiliated-dressage-18/
LOCATION:Reaseheath Equestrian Centre\, Reaseheath College\, Nantwich\, Cheshire\, CW5 6DF\, United Kingdom
CATEGORIES:Unaffiliated Dressage
ORGANIZER;CN="Phoebe Harper":MAILTO:phoebe.harper@reaseheath.ac.uk
END:VEVENT
BEGIN:VEVENT
DTSTART;TZID=Europe/London:20200207T173000
DTEND;TZID=Europe/London:20200207T200000
DTSTAMP:20260421T062442
CREATED:20191009T120321Z
LAST-MODIFIED:20191009T120321Z
UID:93727-1581096600-1581105600@www.reaseheath.ac.uk
SUMMARY:Showjumping Evening
DESCRIPTION:
URL:https://www.reaseheath.ac.uk/event/showjumping-evening-7/
LOCATION:Reaseheath Equestrian Centre\, Reaseheath College\, Nantwich\, Cheshire\, CW5 6DF\, United Kingdom
CATEGORIES:Show Jumping
ORGANIZER;CN="Phoebe Harper":MAILTO:phoebe.harper@reaseheath.ac.uk
END:VEVENT
BEGIN:VEVENT
DTSTART;TZID=Europe/London:20200222T080000
DTEND;TZID=Europe/London:20200222T170000
DTSTAMP:20260421T062442
CREATED:20191009T120419Z
LAST-MODIFIED:20191009T120419Z
UID:93732-1582358400-1582390800@www.reaseheath.ac.uk
SUMMARY:Combined Training
DESCRIPTION:
URL:https://www.reaseheath.ac.uk/event/combined-training-13/
LOCATION:Reaseheath Equestrian Centre\, Reaseheath College\, Nantwich\, Cheshire\, CW5 6DF\, United Kingdom
CATEGORIES:Combined Training
ORGANIZER;CN="Phoebe Harper":MAILTO:phoebe.harper@reaseheath.ac.uk
END:VEVENT
BEGIN:VEVENT
DTSTART;TZID=Europe/London:20200223T080000
DTEND;TZID=Europe/London:20200223T170000
DTSTAMP:20260421T062442
CREATED:20191009T120446Z
LAST-MODIFIED:20191009T120446Z
UID:93734-1582444800-1582477200@www.reaseheath.ac.uk
SUMMARY:Showing
DESCRIPTION:
URL:https://www.reaseheath.ac.uk/event/showing-10/
LOCATION:Reaseheath Equestrian Centre\, Reaseheath College\, Nantwich\, Cheshire\, CW5 6DF\, United Kingdom
CATEGORIES:Showing
ORGANIZER;CN="Phoebe Harper":MAILTO:phoebe.harper@reaseheath.ac.uk
END:VEVENT
BEGIN:VEVENT
DTSTART;TZID=Europe/London:20200229T080000
DTEND;TZID=Europe/London:20200229T170000
DTSTAMP:20260421T062442
CREATED:20191009T120510Z
LAST-MODIFIED:20191009T120510Z
UID:93736-1582963200-1582995600@www.reaseheath.ac.uk
SUMMARY:Team Quest
DESCRIPTION:
URL:https://www.reaseheath.ac.uk/event/team-quest-10/
LOCATION:Reaseheath Equestrian Centre\, Reaseheath College\, Nantwich\, Cheshire\, CW5 6DF\, United Kingdom
CATEGORIES:Team Quest
ORGANIZER;CN="Phoebe Harper":MAILTO:phoebe.harper@reaseheath.ac.uk
END:VEVENT
END:VCALENDAR