BEGIN:VCALENDAR
VERSION:2.0
PRODID:-//Reaseheath College - ECPv6.10.1.1//NONSGML v1.0//EN
CALSCALE:GREGORIAN
METHOD:PUBLISH
X-WR-CALNAME:Reaseheath College
X-ORIGINAL-URL:https://www.reaseheath.ac.uk
X-WR-CALDESC:Events for Reaseheath College
REFRESH-INTERVAL;VALUE=DURATION:PT1H
X-Robots-Tag:noindex
X-PUBLISHED-TTL:PT1H
BEGIN:VTIMEZONE
TZID:Europe/London
BEGIN:DAYLIGHT
TZOFFSETFROM:+0000
TZOFFSETTO:+0100
TZNAME:BST
DTSTART:20200329T010000
END:DAYLIGHT
BEGIN:STANDARD
TZOFFSETFROM:+0100
TZOFFSETTO:+0000
TZNAME:GMT
DTSTART:20201025T010000
END:STANDARD
END:VTIMEZONE
BEGIN:VEVENT
DTSTART;TZID=Europe/London:20200404T080000
DTEND;TZID=Europe/London:20200404T170000
DTSTAMP:20260421T025736
CREATED:20191009T130050Z
LAST-MODIFIED:20191009T130050Z
UID:93755-1585987200-1586019600@www.reaseheath.ac.uk
SUMMARY:British Dressage
DESCRIPTION:
URL:https://www.reaseheath.ac.uk/event/british-dressage-4/
LOCATION:Reaseheath Equestrian Centre\, Reaseheath College\, Nantwich\, Cheshire\, CW5 6DF\, United Kingdom
CATEGORIES:Affiliated Dressage
ORGANIZER;CN="Phoebe Harper":MAILTO:phoebe.harper@reaseheath.ac.uk
END:VEVENT
BEGIN:VEVENT
DTSTART;TZID=Europe/London:20200405T080000
DTEND;TZID=Europe/London:20200405T170000
DTSTAMP:20260421T025736
CREATED:20191009T130201Z
LAST-MODIFIED:20191009T130201Z
UID:93757-1586073600-1586106000@www.reaseheath.ac.uk
SUMMARY:Unaffiliated Dressage
DESCRIPTION:
URL:https://www.reaseheath.ac.uk/event/unaffiliated-dressage-20/
LOCATION:Reaseheath Equestrian Centre\, Reaseheath College\, Nantwich\, Cheshire\, CW5 6DF\, United Kingdom
CATEGORIES:Unaffiliated Dressage
ORGANIZER;CN="Phoebe Harper":MAILTO:phoebe.harper@reaseheath.ac.uk
END:VEVENT
BEGIN:VEVENT
DTSTART;TZID=Europe/London:20200410T080000
DTEND;TZID=Europe/London:20200412T170000
DTSTAMP:20260421T025736
CREATED:20191009T130246Z
LAST-MODIFIED:20191009T130246Z
UID:93759-1586505600-1586710800@www.reaseheath.ac.uk
SUMMARY:Fitness Camp
DESCRIPTION:
URL:https://www.reaseheath.ac.uk/event/fitness-camp/
LOCATION:Reaseheath Equestrian Centre\, Reaseheath College\, Nantwich\, Cheshire\, CW5 6DF\, United Kingdom
ORGANIZER;CN="Phoebe Harper":MAILTO:phoebe.harper@reaseheath.ac.uk
END:VEVENT
BEGIN:VEVENT
DTSTART;TZID=Europe/London:20200417T173000
DTEND;TZID=Europe/London:20200417T200000
DTSTAMP:20260421T025736
CREATED:20191009T130646Z
LAST-MODIFIED:20191009T130646Z
UID:93763-1587144600-1587153600@www.reaseheath.ac.uk
SUMMARY:Showjumping Evening
DESCRIPTION:
URL:https://www.reaseheath.ac.uk/event/showjumping-evening-9/
LOCATION:Reaseheath Equestrian Centre\, Reaseheath College\, Nantwich\, Cheshire\, CW5 6DF\, United Kingdom
CATEGORIES:Show Jumping
ORGANIZER;CN="Phoebe Harper":MAILTO:phoebe.harper@reaseheath.ac.uk
END:VEVENT
BEGIN:VEVENT
DTSTART;TZID=Europe/London:20200418T080000
DTEND;TZID=Europe/London:20200418T170000
DTSTAMP:20260421T025736
CREATED:20191009T130742Z
LAST-MODIFIED:20191009T130742Z
UID:93766-1587196800-1587229200@www.reaseheath.ac.uk
SUMMARY:Showjumping Competition
DESCRIPTION:
URL:https://www.reaseheath.ac.uk/event/showjumping-competition-14/
LOCATION:Reaseheath Equestrian Centre\, Reaseheath College\, Nantwich\, Cheshire\, CW5 6DF\, United Kingdom
CATEGORIES:Show Jumping
ORGANIZER;CN="Phoebe Harper":MAILTO:phoebe.harper@reaseheath.ac.uk
END:VEVENT
BEGIN:VEVENT
DTSTART;TZID=Europe/London:20200425T080000
DTEND;TZID=Europe/London:20200425T170000
DTSTAMP:20260421T025736
CREATED:20191009T130936Z
LAST-MODIFIED:20191009T130936Z
UID:93769-1587801600-1587834000@www.reaseheath.ac.uk
SUMMARY:Team Quest
DESCRIPTION:
URL:https://www.reaseheath.ac.uk/event/team-quest-12/
LOCATION:Reaseheath Equestrian Centre\, Reaseheath College\, Nantwich\, Cheshire\, CW5 6DF\, United Kingdom
CATEGORIES:Team Quest
ORGANIZER;CN="Phoebe Harper":MAILTO:phoebe.harper@reaseheath.ac.uk
END:VEVENT
BEGIN:VEVENT
DTSTART;TZID=Europe/London:20200426T080000
DTEND;TZID=Europe/London:20200426T170000
DTSTAMP:20260421T025736
CREATED:20191009T131007Z
LAST-MODIFIED:20191009T131007Z
UID:93771-1587888000-1587920400@www.reaseheath.ac.uk
SUMMARY:Showing
DESCRIPTION:
URL:https://www.reaseheath.ac.uk/event/showing-12/
LOCATION:Reaseheath Equestrian Centre\, Reaseheath College\, Nantwich\, Cheshire\, CW5 6DF\, United Kingdom
CATEGORIES:Showing
ORGANIZER;CN="Phoebe Harper":MAILTO:phoebe.harper@reaseheath.ac.uk
END:VEVENT
END:VCALENDAR