BEGIN:VCALENDAR
VERSION:2.0
PRODID:-//Reaseheath College - ECPv6.10.1.1//NONSGML v1.0//EN
CALSCALE:GREGORIAN
METHOD:PUBLISH
X-WR-CALNAME:Reaseheath College
X-ORIGINAL-URL:https://www.reaseheath.ac.uk
X-WR-CALDESC:Events for Reaseheath College
REFRESH-INTERVAL;VALUE=DURATION:PT1H
X-Robots-Tag:noindex
X-PUBLISHED-TTL:PT1H
BEGIN:VTIMEZONE
TZID:Europe/London
BEGIN:DAYLIGHT
TZOFFSETFROM:+0000
TZOFFSETTO:+0100
TZNAME:BST
DTSTART:20200329T010000
END:DAYLIGHT
BEGIN:STANDARD
TZOFFSETFROM:+0100
TZOFFSETTO:+0000
TZNAME:GMT
DTSTART:20201025T010000
END:STANDARD
END:VTIMEZONE
BEGIN:VEVENT
DTSTART;VALUE=DATE:20201003
DTEND;VALUE=DATE:20201004
DTSTAMP:20260420T162541
CREATED:20200829T084811Z
LAST-MODIFIED:20200829T084811Z
UID:102220-1601683200-1601769599@www.reaseheath.ac.uk
SUMMARY:Affiliated Dressage
DESCRIPTION:
URL:https://www.reaseheath.ac.uk/event/affiliated-dressage-12/
LOCATION:Reaseheath Equestrian Centre\, Reaseheath College\, Nantwich\, Cheshire\, CW5 6DF\, United Kingdom
ORGANIZER;CN="Phoebe Harper":MAILTO:phoebe.harper@reaseheath.ac.uk
END:VEVENT
BEGIN:VEVENT
DTSTART;VALUE=DATE:20201004
DTEND;VALUE=DATE:20201005
DTSTAMP:20260420T162541
CREATED:20200829T085114Z
LAST-MODIFIED:20200829T085114Z
UID:102241-1601769600-1601855999@www.reaseheath.ac.uk
SUMMARY:Unaffiliated Dressage
DESCRIPTION:
URL:https://www.reaseheath.ac.uk/event/unaffiliated-dressage-24/
LOCATION:Reaseheath Equestrian Centre\, Reaseheath College\, Nantwich\, Cheshire\, CW5 6DF\, United Kingdom
ORGANIZER;CN="Phoebe Harper":MAILTO:phoebe.harper@reaseheath.ac.uk
END:VEVENT
BEGIN:VEVENT
DTSTART;TZID=Europe/London:20201005T173000
DTEND;TZID=Europe/London:20201005T193000
DTSTAMP:20260420T162541
CREATED:20200829T085622Z
LAST-MODIFIED:20200829T085622Z
UID:102262-1601919000-1601926200@www.reaseheath.ac.uk
SUMMARY:Flat Work Clinic with BSHII Joanne Roper
DESCRIPTION:
URL:https://www.reaseheath.ac.uk/event/flat-work-clinic-with-bshii-joanne-roper-2/
LOCATION:Reaseheath Equestrian Centre\, Reaseheath College\, Nantwich\, Cheshire\, CW5 6DF\, United Kingdom
ORGANIZER;CN="Phoebe Harper":MAILTO:phoebe.harper@reaseheath.ac.uk
END:VEVENT
BEGIN:VEVENT
DTSTART;TZID=Europe/London:20201012T150000
DTEND;TZID=Europe/London:20201012T170000
DTSTAMP:20260420T162541
CREATED:20200918T085924Z
LAST-MODIFIED:20200918T085924Z
UID:102782-1602514800-1602522000@www.reaseheath.ac.uk
SUMMARY:Pole work clinic with Ben Read – BHSAI
DESCRIPTION:Pole work is a fantastic way to work on yours and your horse’s straightness. This clinic can help improve all disciplines\, from accuracy in your dressage test to precision lines and careful strides for jumping. It is also a brilliant way to bond with your horse and work on each other’s weakness.
URL:https://www.reaseheath.ac.uk/event/pole-work-clinic-with-ben-read-bhsai-2/
LOCATION:Reaseheath Equestrian Centre\, Reaseheath College\, Nantwich\, Cheshire\, CW5 6DF\, United Kingdom
CATEGORIES:Equine Clinic
ORGANIZER;CN="Phoebe Harper":MAILTO:phoebe.harper@reaseheath.ac.uk
END:VEVENT
BEGIN:VEVENT
DTSTART;TZID=Europe/London:20201012T173000
DTEND;TZID=Europe/London:20201012T193000
DTSTAMP:20260420T162541
CREATED:20200829T085857Z
LAST-MODIFIED:20200829T085857Z
UID:102274-1602523800-1602531000@www.reaseheath.ac.uk
SUMMARY:Pole Work Clinic with Joanne Roper BHSII
DESCRIPTION:
URL:https://www.reaseheath.ac.uk/event/pole-work-clinic-with-joanne-roper-bhsii-2/
LOCATION:Reaseheath Equestrian Centre\, Reaseheath College\, Nantwich\, Cheshire\, CW5 6DF\, United Kingdom
ORGANIZER;CN="Phoebe Harper":MAILTO:phoebe.harper@reaseheath.ac.uk
END:VEVENT
BEGIN:VEVENT
DTSTART;TZID=Europe/London:20201019T173000
DTEND;TZID=Europe/London:20201019T193000
DTSTAMP:20260420T162541
CREATED:20200829T090349Z
LAST-MODIFIED:20200829T090349Z
UID:102289-1603128600-1603135800@www.reaseheath.ac.uk
SUMMARY:Showjumping Course Clinic with Joanne Roper BHSII
DESCRIPTION:
URL:https://www.reaseheath.ac.uk/event/showjumping-course-clinic-with-joanne-roper-bhsii/
LOCATION:Reaseheath Equestrian Centre\, Reaseheath College\, Nantwich\, Cheshire\, CW5 6DF\, United Kingdom
ORGANIZER;CN="Phoebe Harper":MAILTO:phoebe.harper@reaseheath.ac.uk
END:VEVENT
BEGIN:VEVENT
DTSTART;TZID=Europe/London:20201020T150000
DTEND;TZID=Europe/London:20201020T210000
DTSTAMP:20260420T162541
CREATED:20200829T085152Z
LAST-MODIFIED:20200829T085152Z
UID:102244-1603206000-1603227600@www.reaseheath.ac.uk
SUMMARY:Mid Week Unaffiliated Dressage
DESCRIPTION:
URL:https://www.reaseheath.ac.uk/event/mid-week-unaffiliated-dressage-2/
LOCATION:Reaseheath Equestrian Centre\, Reaseheath College\, Nantwich\, Cheshire\, CW5 6DF\, United Kingdom
ORGANIZER;CN="Phoebe Harper":MAILTO:phoebe.harper@reaseheath.ac.uk
END:VEVENT
END:VCALENDAR