BEGIN:VCALENDAR
VERSION:2.0
PRODID:-//Reaseheath College - ECPv6.10.1.1//NONSGML v1.0//EN
CALSCALE:GREGORIAN
METHOD:PUBLISH
X-ORIGINAL-URL:https://www.reaseheath.ac.uk
X-WR-CALDESC:Events for Reaseheath College
REFRESH-INTERVAL;VALUE=DURATION:PT1H
X-Robots-Tag:noindex
X-PUBLISHED-TTL:PT1H
BEGIN:VTIMEZONE
TZID:Europe/London
BEGIN:DAYLIGHT
TZOFFSETFROM:+0000
TZOFFSETTO:+0100
TZNAME:BST
DTSTART:20200329T010000
END:DAYLIGHT
BEGIN:STANDARD
TZOFFSETFROM:+0100
TZOFFSETTO:+0000
TZNAME:GMT
DTSTART:20201025T010000
END:STANDARD
END:VTIMEZONE
BEGIN:VEVENT
DTSTART;VALUE=DATE:20201205
DTEND;VALUE=DATE:20201206
DTSTAMP:20260420T131818
CREATED:20200829T084915Z
LAST-MODIFIED:20200829T084915Z
UID:102226-1607126400-1607212799@www.reaseheath.ac.uk
SUMMARY:Affiliated Dressage
DESCRIPTION:
URL:https://www.reaseheath.ac.uk/event/affiliated-dressage-14/
LOCATION:Reaseheath Equestrian Centre\, Reaseheath College\, Nantwich\, Cheshire\, CW5 6DF\, United Kingdom
ORGANIZER;CN="Phoebe Harper":MAILTO:phoebe.harper@reaseheath.ac.uk
END:VEVENT
BEGIN:VEVENT
DTSTART;VALUE=DATE:20201206
DTEND;VALUE=DATE:20201207
DTSTAMP:20260420T131818
CREATED:20200829T085353Z
LAST-MODIFIED:20200829T085353Z
UID:102253-1607212800-1607299199@www.reaseheath.ac.uk
SUMMARY:Unaffiliated Dressage
DESCRIPTION:
URL:https://www.reaseheath.ac.uk/event/unaffiliated-dressage-26/
LOCATION:Reaseheath Equestrian Centre\, Reaseheath College\, Nantwich\, Cheshire\, CW5 6DF\, United Kingdom
ORGANIZER;CN="Phoebe Harper":MAILTO:phoebe.harper@reaseheath.ac.uk
END:VEVENT
BEGIN:VEVENT
DTSTART;TZID=Europe/London:20201207T173000
DTEND;TZID=Europe/London:20201207T193000
DTSTAMP:20260420T131818
CREATED:20200829T090553Z
LAST-MODIFIED:20200918T084339Z
UID:102301-1607362200-1607369400@www.reaseheath.ac.uk
SUMMARY:Pole Work Clinic with Joanne Roper BHSII
DESCRIPTION:
URL:https://www.reaseheath.ac.uk/event/ground-work-clinic-with-joanne-roper-bhsii-3/
LOCATION:Reaseheath Equestrian Centre\, Reaseheath College\, Nantwich\, Cheshire\, CW5 6DF\, United Kingdom
ORGANIZER;CN="Phoebe Harper":MAILTO:phoebe.harper@reaseheath.ac.uk
END:VEVENT
BEGIN:VEVENT
DTSTART;TZID=Europe/London:20201214T173000
DTEND;TZID=Europe/London:20201214T193000
DTSTAMP:20260420T131818
CREATED:20200829T085726Z
LAST-MODIFIED:20200829T085726Z
UID:102268-1607967000-1607974200@www.reaseheath.ac.uk
SUMMARY:Flat Work Clinic with BSHII Joanne Roper
DESCRIPTION:
URL:https://www.reaseheath.ac.uk/event/flat-work-clinic-with-bshii-joanne-roper-4/
LOCATION:Reaseheath Equestrian Centre\, Reaseheath College\, Nantwich\, Cheshire\, CW5 6DF\, United Kingdom
ORGANIZER;CN="Phoebe Harper":MAILTO:phoebe.harper@reaseheath.ac.uk
END:VEVENT
BEGIN:VEVENT
DTSTART;VALUE=DATE:20201219
DTEND;VALUE=DATE:20201220
DTSTAMP:20260420T131818
CREATED:20201110T103457Z
LAST-MODIFIED:20201110T103457Z
UID:104403-1608336000-1608422399@www.reaseheath.ac.uk
SUMMARY:Affiliated Dressage
DESCRIPTION:
URL:https://www.reaseheath.ac.uk/event/affiliated-dressage-15/
LOCATION:Reaseheath Equestrian Centre\, Reaseheath College\, Nantwich\, Cheshire\, CW5 6DF\, United Kingdom
CATEGORIES:Affiliated Dressage
ORGANIZER;CN="Phoebe Harper":MAILTO:phoebe.harper@reaseheath.ac.uk
END:VEVENT
BEGIN:VEVENT
DTSTART;TZID=Europe/London:20201222T150000
DTEND;TZID=Europe/London:20201222T210000
DTSTAMP:20260420T131818
CREATED:20200829T085425Z
LAST-MODIFIED:20200829T085425Z
UID:102256-1608649200-1608670800@www.reaseheath.ac.uk
SUMMARY:Mid Week Unaffiliated Dressage
DESCRIPTION:
URL:https://www.reaseheath.ac.uk/event/mid-week-unaffiliated-dressage-4/
LOCATION:Reaseheath Equestrian Centre\, Reaseheath College\, Nantwich\, Cheshire\, CW5 6DF\, United Kingdom
ORGANIZER;CN="Phoebe Harper":MAILTO:phoebe.harper@reaseheath.ac.uk
END:VEVENT
END:VCALENDAR